Workbook
Name _提出日候補: '選択肢-削除NG・非表示-'!$D$16:INDEX('選択肢-削除NG・非表示-'!$D$16:$D$46,DAY(EOMONTH(DATE(VALUE(SUBSTITUTE('（記入例）'!$S$4,"年","")),VALUE(SUBSTITUTE('（記入例）'!$T$4,"月","")),1),0)))
Name _提出日候補: '選択肢-削除NG・非表示-'!$D$16:INDEX('選択肢-削除NG・非表示-'!$D$16:$D$46,DAY(EOMONTH(DATE(VALUE(SUBSTITUTE('クラフト館 施設申込書'!$S$4,"年","")),VALUE(SUBSTITUTE('クラフト館 施設申込書'!$T$4,"月","")),1),0)))

Sheet （記入例）
B2: 様式１ー１
B3: クラフト館 施設利用申込書
Q4: 提出日 | S4: 2026年 | T4: 11月 | U4: 20日
B6: ＜申込概要＞ | Q6: イベントID（事務局記入用）
B7: 1 | C7: イベント名
C8: 横浜産の原材料を使った味噌づくりワークショップ
B10: 2 | C10: 申込者（イベント出展者）情報
C11: 申込者（イベント出展者）団体名称 | F11: 株式会社 イベント企画
C12: 住所 | F12: 〒231-0013 神奈川県横浜市中区住吉町１－１３ 松村ビル本館３階
C13: 申込団体 代表者名 | F13: 代表取締役社長 イベント 花子
C14: 担当者名 | F14: 役職 | I14: 担当部署 | M14: 連絡先電話番号 | Q14: Mailアドレス
C15: クラフト 太郎 | F15: 課長 | I15: イベント企画課 | M15: 045-XXX-XXXX | Q15: taro@craftevents.co.jp
C16: クラフト 二郎 | F16: 係長 | I16: イベント企画課 | M16: 045-XXX-XXXX | Q16: jiro@craftevents.co.jp
B19: 3 | C19: イベント分類 ※プルダウンにてご選択ください。
C20: ワークショップ・体験会
B22: 4 | C22: イベントテーマ ※プルダウンにて選択ください
C23: ①-１ 発酵食文化などの自然との共生技術に関するもの
B25: 5 | C25: 開催希望時期等（希望日数は、設営・本番・撤去含む日数を記載） ※プルダウンにて選択ください
C27: 第１希望 | D27: ５月 | E27: 上旬 | G27: 第２希望 | H27: ５月 | I27: 下旬 | K27: 第３希望 | M27: ８月 | O27: 上旬
C29: 上記以外の開催希望時期（自由記述）
C30: ３月下旬、４月上旬、４月下旬、７月下旬、８月下旬（イベントが実施できるなら時期にはこだわらない）
C32: 希望日数 | D32: ７日間 | G32: 初日利用開始時間 | I32: 9時 | J32: 00分 | L32: ～ | N32: 最終日利用終了時間 | R32: ～ | S32: 15時 | T32: 00分
G33: （設営開始時間） | N33: （撤去完了時間）
C35: イベントの開催時間（自由記述） ※代表的なモデルスケジュールをご記入ください
C36: １回目：10:30～12:30、２回目：14:30～16:30、３回目：18:30～20:30（２～６日でイベントを実施。初日と最終日は設営・撤去等の準備のみ。）
C39: 申込みにあたっては、募集要項をよくお読みいただき、ご同意の上、ご応募ください。
C40: 以下の同意ボタンにチェックを入れてください。
E42: 募集要項に同意します。
C45: ・イベント申込者は「クラフト館施設利用申込書」に必要事項を記入してメールにファイル添付のうえ協会まで提出してください。
D49: TRUE
T53: ■協会押印欄

Sheet クラフト館 施設申込書
B2: 様式１ー１
B3: クラフト館 施設利用申込書
Q4: 提出日 | S4: 2026年
B6: ＜申込概要＞ | Q6: イベントID（事務局記入用）
B7: 1 | C7: イベント名
B10: 2 | C10: 申込者（イベント出展者）情報
C11: 申込者（イベント出展者）団体名称
C12: 住所
C13: 申込団体 代表者名
C14: 担当者名 | F14: 役職 | I14: 担当部署 | M14: 連絡先電話番号 | Q14: Mailアドレス
B19: 3 | C19: イベント分類 ※プルダウンにてご選択ください。
H20: =IF(C20="その他","その他の場合、内容をご入力ください","")
B22: 4 | C22: イベントテーマ ※プルダウンにて選択ください
B25: 5 | C25: 開催希望時期等（希望日数は、設営・本番・撤去含む日数を記載） ※プルダウンにて選択ください
C27: 第１希望 | G27: 第２希望 | K27: 第３希望
C29: 上記以外の開催希望時期（自由記述）
C32: 希望日数 | G32: 初日利用開始時間 | L32: ～ | N32: 最終日利用終了時間 | R32: ～
G33: （設営開始時間） | N33: （撤去完了時間）
C35: イベントの開催時間（自由記述） ※代表的なモデルスケジュールをご記入ください
C39: 申込みにあたっては、募集要項をよくお読みいただき、ご同意の上、ご応募ください。
C40: 以下の同意ボタンにチェックを入れてください。
E42: 募集要項に同意します。
C45: ・イベント申込者は「クラフト館施設利用申込書」に必要事項を記入してメールにファイル添付のうえ協会まで提出してください。
D49: FALSE
T53: ■協会押印欄

Sheet 自動転記用シート-削除NG・非表示- 
A1: 主催者ID | B1: イベント名 | C1: 申込団体名称 | D1: 住所 | E1: 主催団体代表者名 | F1: 担当者名 | G1: 役職 | H1: 担当部署 | I1: 連絡電話番号 | J1: Mailアドレス | K1: イベント分類 | L1: イベントテーマ | M1: 第1希望 | O1: 第2希望 | Q1: 第3希望 | S1: 上記以外の開催希望時期 | T1: 開催希望日数 | U1: 初日利用開始時間 | W1: 最終日利用開始時間 | Y1: イベントの開催時間 （モデルケース）
A2: =MID('クラフト館 施設申込書'!Q6, FIND("催事ID：", 'クラフト館 施設申込書'!Q6) + LEN("催事ID："), LEN('クラフト館 施設申込書'!Q6)) -> #VALUE! | B2: ='クラフト館 施設申込書'!C8 -> 0 | C2: ='クラフト館 施設申込書'!F11 -> 0 | D2: ='クラフト館 施設申込書'!F12 -> 0 | E2: ='クラフト館 施設申込書'!F13 -> 0 | F2: ='クラフト館 施設申込書'!C15 -> 0 | G2: ='クラフト館 施設申込書'!F15 -> 0 | H2: ='クラフト館 施設申込書'!I15 -> 0 | I2: ='クラフト館 施設申込書'!M15 -> 0 | J2: ='クラフト館 施設申込書'!Q15 -> 0 | K2: ='クラフト館 施設申込書'!C20 -> 0 | L2: ='クラフト館 施設申込書'!C23 -> 0 | M2: ='クラフト館 施設申込書'!D27 -> 0 | N2: ='クラフト館 施設申込書'!E27 -> 0 | O2: ='クラフト館 施設申込書'!H27 -> 0 | P2: ='クラフト館 施設申込書'!I27 -> 0 | Q2: ='クラフト館 施設申込書'!M27 -> 0 | R2: ='クラフト館 施設申込書'!O27 -> 0 | S2: ='クラフト館 施設申込書'!C30 -> 0 | T2: ='クラフト館 施設申込書'!D32 -> 0 | U2: ='クラフト館 施設申込書'!I32 -> 0 | V2: ='クラフト館 施設申込書'!J32 -> 0 | W2: ='クラフト館 施設申込書'!S32 -> 0 | X2: ='クラフト館 施設申込書'!T32 -> 0 | Y2: ='クラフト館 施設申込書'!C36 -> 0

Sheet 選択肢-削除NG・非表示-
B2: 3 イベント分類
B3: ● | C3: ワークショップ・体験会
B4: ● | C4: 講演会・セミナー
B5: ● | C5: 展覧会・展示会
B6: ● | C6: その他
B8: ４イベントテーマ
B9: ● | C9: ①-１ 発酵食文化などの自然との共生技術に関するもの
B10: ● | C10: ①-２ 郷土・伝統食などの地域文化振興に関するもの
B11: ● | C11: ①-３ プラントベース・アップサイクル食材・フードテックなどの食の多様性・持続可能性に関するもの
B12: ● | C12: ② 自然素材を活用した日本の伝統的な建築・工芸・服飾文化等に関するもの
B13: ● | C13: ③ ①及び②以外で、持続可能性・環境負荷低減につながる衣食住文化に関するもの
B15: 提出日 | C15: 月 | D15: 日
B16: 2026年 | C16: 10月 | D16: 1日 | F16: 5 希望月 | H16: 希望日数 | I16: 時間
C17: 11月 | D17: 2日 | F17: ３月 | G17: 上旬 | H17: ２日間 | I17: 0時 | J17: 00分
D18: 3日 | F18: ４月 | G18: 中旬 | H18: ３日間 | I18: 1時 | J18: 30分
D19: 4日 | F19: ５月 | G19: 下旬 | H19: ４日間 | I19: 2時
D20: 5日 | F20: ６月 | H20: ５日間 | I20: 3時
D21: 6日 | F21: ７月 | H21: ６日間 | I21: 4時
D22: 7日 | F22: ８月 | H22: ７日間 | I22: 5時
D23: 8日 | F23: ９月 | H23: ８日間 | I23: 6時
D24: 9日 | H24: ９日間 | I24: 7時
D25: 10日 | H25: 10日間 | I25: 8時
D26: 11日 | H26: 11日間 | I26: ="↑ここまで時間外料金↑" -> ↑ここまで時間外料金↑
D27: 12日 | H27: 12日間 | I27: ="↓ここから基本料金↓" -> ↓ここから基本料金↓
D28: 13日 | H28: 13日間 | I28: 9時
D29: 14日 | H29: 14日間 | I29: 10時
D30: 15日 | I30: 11時
D31: 16日 | I31: 12時
D32: 17日 | I32: 13時
D33: 18日 | I33: 14時
D34: 19日 | I34: 15時
D35: 20日 | I35: 16時
D36: 21日 | I36: 17時
D37: 22日 | I37: 18時
D38: 23日 | I38: 19時
D39: 24日 | I39: 20時
D40: 25日 | I40: ="↑ここまで基本料金↑" -> ↑ここまで基本料金↑
D41: 26日 | I41: ="↓ここから時間外料金↓" -> ↓ここから時間外料金↓
D42: 27日 | I42: 21時
D43: 28日 | I43: 22時
D44: 29日 | I44: 23時
D45: 30日 | I45: 24時
D46: 31日
